dset ^TOPO.RSM
title "RSM TOPOGRAPHY"
undef -999.9
options big_endian yrev
xdef 120 linear 120.0 0.25
ydef 150 linear 20.2 0.2
zdef 1 linear 1.0 1.0
tdef 1 linear 0Z2jan1987 1dy
vars 1
topo 0 1, 1, 0, 0 topography [m]
endvars
